BEGIN:VCALENDAR
VERSION:2.0
PRODID:-//Gateway Health - ECPv6.15.20//NONSGML v1.0//EN
CALSCALE:GREGORIAN
METHOD:PUBLISH
X-ORIGINAL-URL:https://gatewayhealth.org.au
X-WR-CALDESC:Events for Gateway Health
REFRESH-INTERVAL;VALUE=DURATION:PT1H
X-Robots-Tag:noindex
X-PUBLISHED-TTL:PT1H
BEGIN:VTIMEZONE
TZID:Australia/Sydney
BEGIN:STANDARD
TZOFFSETFROM:+1100
TZOFFSETTO:+1000
TZNAME:AEST
DTSTART:20210403T160000
END:STANDARD
BEGIN:DAYLIGHT
TZOFFSETFROM:+1000
TZOFFSETTO:+1100
TZNAME:AEDT
DTSTART:20211002T160000
END:DAYLIGHT
BEGIN:STANDARD
TZOFFSETFROM:+1100
TZOFFSETTO:+1000
TZNAME:AEST
DTSTART:20220402T160000
END:STANDARD
BEGIN:DAYLIGHT
TZOFFSETFROM:+1000
TZOFFSETTO:+1100
TZNAME:AEDT
DTSTART:20221001T160000
END:DAYLIGHT
BEGIN:STANDARD
TZOFFSETFROM:+1100
TZOFFSETTO:+1000
TZNAME:AEST
DTSTART:20230401T160000
END:STANDARD
BEGIN:DAYLIGHT
TZOFFSETFROM:+1000
TZOFFSETTO:+1100
TZNAME:AEDT
DTSTART:20230930T160000
END:DAYLIGHT
END:VTIMEZONE
BEGIN:VEVENT
DTSTART;TZID=Australia/Sydney:20220625T170000
DTEND;TZID=Australia/Sydney:20220625T220000
DTSTAMP:20260423T071123
CREATED:20220608T011309Z
LAST-MODIFIED:20220608T040950Z
UID:10001681-1656176400-1656194400@gatewayhealth.org.au
SUMMARY:Rainbow Ball 2022
DESCRIPTION:The Rainbow Ball is a free event inviting LGBTIQA+ young people and their friends aged 14 to 25 from North East Victoria and across the Border. \nTo ensure that the Ball is accessible\, the event will be providing courtesy buses travelling to and from various locations around the North–East and Border regions. \nFor more information and to book your ticket/courtesy bus visit trybooking.com/BZXEG.
URL:https://gatewayhealth.org.au/event/rainbow-ball-2022/
LOCATION:Benalla Town Hall\, 82-86 Nunn St\, Benalla\, Victoria\, 3672\, Australia
GEO:-36.55109;145.9828256
X-APPLE-STRUCTURED-LOCATION;VALUE=URI;X-ADDRESS=Benalla Town Hall 82-86 Nunn St Benalla Victoria 3672 Australia;X-APPLE-RADIUS=500;X-TITLE=82-86 Nunn St:geo:145.9828256,-36.55109
END:VEVENT
END:VCALENDAR