BEGIN:VCALENDAR
VERSION:2.0
PRODID:-//Gateway Health - ECPv6.15.20//NONSGML v1.0//EN
CALSCALE:GREGORIAN
METHOD:PUBLISH
X-WR-CALNAME:Gateway Health
X-ORIGINAL-URL:https://gatewayhealth.org.au
X-WR-CALDESC:Events for Gateway Health
REFRESH-INTERVAL;VALUE=DURATION:PT1H
X-Robots-Tag:noindex
X-PUBLISHED-TTL:PT1H
BEGIN:VTIMEZONE
TZID:Australia/Sydney
BEGIN:STANDARD
TZOFFSETFROM:+1100
TZOFFSETTO:+1000
TZNAME:AEST
DTSTART:20210403T160000
END:STANDARD
BEGIN:DAYLIGHT
TZOFFSETFROM:+1000
TZOFFSETTO:+1100
TZNAME:AEDT
DTSTART:20211002T160000
END:DAYLIGHT
BEGIN:STANDARD
TZOFFSETFROM:+1100
TZOFFSETTO:+1000
TZNAME:AEST
DTSTART:20220402T160000
END:STANDARD
BEGIN:DAYLIGHT
TZOFFSETFROM:+1000
TZOFFSETTO:+1100
TZNAME:AEDT
DTSTART:20221001T160000
END:DAYLIGHT
BEGIN:STANDARD
TZOFFSETFROM:+1100
TZOFFSETTO:+1000
TZNAME:AEST
DTSTART:20230401T160000
END:STANDARD
BEGIN:DAYLIGHT
TZOFFSETFROM:+1000
TZOFFSETTO:+1100
TZNAME:AEDT
DTSTART:20230930T160000
END:DAYLIGHT
END:VTIMEZONE
BEGIN:VEVENT
DTSTART;TZID=Australia/Sydney:20220818T190000
DTEND;TZID=Australia/Sydney:20220818T210000
DTSTAMP:20260424T134427
CREATED:20220628T002400Z
LAST-MODIFIED:20220704T001256Z
UID:10001685-1660849200-1660856400@gatewayhealth.org.au
SUMMARY:Tuning in to Kids - Emotion coaching
DESCRIPTION:This free four-week program aims to help parents and carers understand their child’s experience and connect with and support their child. \nThis program will look at: \n\nmanaging meltdowns\ntuning in to your children’s emotions to help manage behavior\nemotion coaching – helping children to understand and regulate their emotions\nproblem solving and self-care\nthe different styles of parenting.\n\nBookings are essential – Contact us on 02 6022 8888 or email parenting@gatewayhealth.org.au.
URL:https://gatewayhealth.org.au/event/tuning-in-to-kids-emotion-coaching/2022-08-18/
LOCATION:Online via Zoom
END:VEVENT
END:VCALENDAR