BEGIN:VCALENDAR
VERSION:2.0
PRODID:-//Gateway Health - ECPv6.15.20//NONSGML v1.0//EN
CALSCALE:GREGORIAN
METHOD:PUBLISH
X-WR-CALNAME:Gateway Health
X-ORIGINAL-URL:https://gatewayhealth.org.au
X-WR-CALDESC:Events for Gateway Health
REFRESH-INTERVAL;VALUE=DURATION:PT1H
X-Robots-Tag:noindex
X-PUBLISHED-TTL:PT1H
BEGIN:VTIMEZONE
TZID:Australia/Sydney
BEGIN:STANDARD
TZOFFSETFROM:+1100
TZOFFSETTO:+1000
TZNAME:AEST
DTSTART:20210403T160000
END:STANDARD
BEGIN:DAYLIGHT
TZOFFSETFROM:+1000
TZOFFSETTO:+1100
TZNAME:AEDT
DTSTART:20211002T160000
END:DAYLIGHT
BEGIN:STANDARD
TZOFFSETFROM:+1100
TZOFFSETTO:+1000
TZNAME:AEST
DTSTART:20220402T160000
END:STANDARD
BEGIN:DAYLIGHT
TZOFFSETFROM:+1000
TZOFFSETTO:+1100
TZNAME:AEDT
DTSTART:20221001T160000
END:DAYLIGHT
BEGIN:STANDARD
TZOFFSETFROM:+1100
TZOFFSETTO:+1000
TZNAME:AEST
DTSTART:20230401T160000
END:STANDARD
BEGIN:DAYLIGHT
TZOFFSETFROM:+1000
TZOFFSETTO:+1100
TZNAME:AEDT
DTSTART:20230930T160000
END:DAYLIGHT
END:VTIMEZONE
BEGIN:VEVENT
DTSTART;TZID=Australia/Sydney:20220412T140000
DTEND;TZID=Australia/Sydney:20220412T170000
DTSTAMP:20260421T021438
CREATED:20220408T073008Z
LAST-MODIFIED:20220408T073008Z
UID:10001173-1649772000-1649782800@gatewayhealth.org.au
SUMMARY:Chiltern COVID-19 vaccination clinic
DESCRIPTION:Walk-in Novavax and Pfizer are available for those aged five and above.
URL:https://gatewayhealth.org.au/event/chiltern-covid-19-vaccination-clinic/
LOCATION:Martin Park\, 31 Main Street\, Chiltern\, Victoria\, Australia
CATEGORIES:COVID-19 outreach vaccination hubs
GEO:-36.1524876;146.608805
X-APPLE-STRUCTURED-LOCATION;VALUE=URI;X-ADDRESS=Martin Park 31 Main Street Chiltern Victoria Australia;X-APPLE-RADIUS=500;X-TITLE=31 Main Street:geo:146.608805,-36.1524876
END:VEVENT
BEGIN:VEVENT
DTSTART;TZID=Australia/Sydney:20220420T093000
DTEND;TZID=Australia/Sydney:20220420T130000
DTSTAMP:20260421T021438
CREATED:20220408T073955Z
LAST-MODIFIED:20220408T073955Z
UID:10001175-1650447000-1650459600@gatewayhealth.org.au
SUMMARY:Benalla COVID-19 vaccination clinic
DESCRIPTION:
URL:https://gatewayhealth.org.au/event/benalla-covid-19-vaccination-clinic/
LOCATION:Rose Garden\, 2 Bridge Street W\, Benalla\, Victoria\, 3672\, Australia
CATEGORIES:COVID-19 outreach vaccination hubs
GEO:-36.5544873;145.9767205
X-APPLE-STRUCTURED-LOCATION;VALUE=URI;X-ADDRESS=Rose Garden 2 Bridge Street W Benalla Victoria 3672 Australia;X-APPLE-RADIUS=500;X-TITLE=2 Bridge Street W:geo:145.9767205,-36.5544873
END:VEVENT
BEGIN:VEVENT
DTSTART;TZID=Australia/Sydney:20220420T140000
DTEND;TZID=Australia/Sydney:20220420T160000
DTSTAMP:20260421T021438
CREATED:20220408T074123Z
LAST-MODIFIED:20220408T074123Z
UID:10001176-1650463200-1650470400@gatewayhealth.org.au
SUMMARY:Benalla COVID-19 vaccination clinic
DESCRIPTION:
URL:https://gatewayhealth.org.au/event/benalla-covid-19-vaccination-clinic-2/
LOCATION:Waminda Community House\, 19 Bellantine Street\, Benalla\, Victoria\, Australia
CATEGORIES:COVID-19 outreach vaccination hubs
GEO:-37.8314022;144.6520674
X-APPLE-STRUCTURED-LOCATION;VALUE=URI;X-ADDRESS=Waminda Community House 19 Bellantine Street Benalla Victoria Australia;X-APPLE-RADIUS=500;X-TITLE=19 Bellantine Street:geo:144.6520674,-37.8314022
END:VEVENT
BEGIN:VEVENT
DTSTART;TZID=Australia/Sydney:20220428T140000
DTEND;TZID=Australia/Sydney:20220428T170000
DTSTAMP:20260421T021438
CREATED:20220408T073238Z
LAST-MODIFIED:20220408T073238Z
UID:10001174-1651154400-1651165200@gatewayhealth.org.au
SUMMARY:Rutherglen COVID-19 vaccination clinic
DESCRIPTION:Walk-in Novavax and Pfizer are available for those aged five and over.
URL:https://gatewayhealth.org.au/event/rutherglen-covid-19-vaccination-clinic/
LOCATION:Lions Park\, Douglas Street\, Rutherglen\, Victoria\, Australia
CATEGORIES:COVID-19 outreach vaccination hubs
GEO:-36.0529464;146.4613378
X-APPLE-STRUCTURED-LOCATION;VALUE=URI;X-ADDRESS=Lions Park Douglas Street Rutherglen Victoria Australia;X-APPLE-RADIUS=500;X-TITLE=Douglas Street:geo:146.4613378,-36.0529464
END:VEVENT
END:VCALENDAR