BEGIN:VCALENDAR
VERSION:2.0
PRODID:-//Gateway Health - ECPv6.15.20//NONSGML v1.0//EN
CALSCALE:GREGORIAN
METHOD:PUBLISH
X-WR-CALNAME:Gateway Health
X-ORIGINAL-URL:https://gatewayhealth.org.au
X-WR-CALDESC:Events for Gateway Health
REFRESH-INTERVAL;VALUE=DURATION:PT1H
X-Robots-Tag:noindex
X-PUBLISHED-TTL:PT1H
BEGIN:VTIMEZONE
TZID:Australia/Sydney
BEGIN:STANDARD
TZOFFSETFROM:+1100
TZOFFSETTO:+1000
TZNAME:AEST
DTSTART:20210403T160000
END:STANDARD
BEGIN:DAYLIGHT
TZOFFSETFROM:+1000
TZOFFSETTO:+1100
TZNAME:AEDT
DTSTART:20211002T160000
END:DAYLIGHT
BEGIN:STANDARD
TZOFFSETFROM:+1100
TZOFFSETTO:+1000
TZNAME:AEST
DTSTART:20220402T160000
END:STANDARD
BEGIN:DAYLIGHT
TZOFFSETFROM:+1000
TZOFFSETTO:+1100
TZNAME:AEDT
DTSTART:20221001T160000
END:DAYLIGHT
BEGIN:STANDARD
TZOFFSETFROM:+1100
TZOFFSETTO:+1000
TZNAME:AEST
DTSTART:20230401T160000
END:STANDARD
BEGIN:DAYLIGHT
TZOFFSETFROM:+1000
TZOFFSETTO:+1100
TZNAME:AEDT
DTSTART:20230930T160000
END:DAYLIGHT
END:VTIMEZONE
BEGIN:VEVENT
DTSTART;TZID=Australia/Sydney:20221107T100000
DTEND;TZID=Australia/Sydney:20221107T123000
DTSTAMP:20260421T151835
CREATED:20220902T005248Z
LAST-MODIFIED:20220902T005248Z
UID:10002186-1667815200-1667824200@gatewayhealth.org.au
SUMMARY:Bladder Health - Wangaratta
DESCRIPTION:Bladder weakness is not a normal part of ageing and it is treatable. \nThis is a three-week program that can assist you to understand and manage bladder and bowel issues and learn pelvic floor exercises. \nThe $30 cost includes: \n\nGuest speakers\nRefreshments\nResources\nA follow-up pelvic floor scan clinic\n\nIf you are interested in attending call Lisa on 03 5723 2082.
URL:https://gatewayhealth.org.au/event/bladder-health-wangaratta/2022-11-07/
LOCATION:Gateway Health Wangaratta\, 45-47 Mackay Street\, Wangaratta\, Victoria\, 3677\, Australia
CATEGORIES:Bladder Health
ORGANIZER;CN="Gateway Health - Wangaratta":MAILTO:info@gatewayhealth.org.au
GEO:-36.3528854;146.3197993
X-APPLE-STRUCTURED-LOCATION;VALUE=URI;X-ADDRESS=Gateway Health Wangaratta 45-47 Mackay Street Wangaratta Victoria 3677 Australia;X-APPLE-RADIUS=500;X-TITLE=45-47 Mackay Street:geo:146.3197993,-36.3528854
END:VEVENT
BEGIN:VEVENT
DTSTART;TZID=Australia/Sydney:20221114T100000
DTEND;TZID=Australia/Sydney:20221114T123000
DTSTAMP:20260421T151835
CREATED:20220902T005248Z
LAST-MODIFIED:20220902T005248Z
UID:10002187-1668420000-1668429000@gatewayhealth.org.au
SUMMARY:Bladder Health - Wangaratta
DESCRIPTION:Bladder weakness is not a normal part of ageing and it is treatable. \nThis is a three-week program that can assist you to understand and manage bladder and bowel issues and learn pelvic floor exercises. \nThe $30 cost includes: \n\nGuest speakers\nRefreshments\nResources\nA follow-up pelvic floor scan clinic\n\nIf you are interested in attending call Lisa on 03 5723 2082.
URL:https://gatewayhealth.org.au/event/bladder-health-wangaratta/2022-11-14/
LOCATION:Gateway Health Wangaratta\, 45-47 Mackay Street\, Wangaratta\, Victoria\, 3677\, Australia
CATEGORIES:Bladder Health
ORGANIZER;CN="Gateway Health - Wangaratta":MAILTO:info@gatewayhealth.org.au
GEO:-36.3528854;146.3197993
X-APPLE-STRUCTURED-LOCATION;VALUE=URI;X-ADDRESS=Gateway Health Wangaratta 45-47 Mackay Street Wangaratta Victoria 3677 Australia;X-APPLE-RADIUS=500;X-TITLE=45-47 Mackay Street:geo:146.3197993,-36.3528854
END:VEVENT
BEGIN:VEVENT
DTSTART;TZID=Australia/Sydney:20221121T100000
DTEND;TZID=Australia/Sydney:20221121T123000
DTSTAMP:20260421T151835
CREATED:20220902T005248Z
LAST-MODIFIED:20220902T005248Z
UID:10002188-1669024800-1669033800@gatewayhealth.org.au
SUMMARY:Bladder Health - Wangaratta
DESCRIPTION:Bladder weakness is not a normal part of ageing and it is treatable. \nThis is a three-week program that can assist you to understand and manage bladder and bowel issues and learn pelvic floor exercises. \nThe $30 cost includes: \n\nGuest speakers\nRefreshments\nResources\nA follow-up pelvic floor scan clinic\n\nIf you are interested in attending call Lisa on 03 5723 2082.
URL:https://gatewayhealth.org.au/event/bladder-health-wangaratta/2022-11-21/
LOCATION:Gateway Health Wangaratta\, 45-47 Mackay Street\, Wangaratta\, Victoria\, 3677\, Australia
CATEGORIES:Bladder Health
ORGANIZER;CN="Gateway Health - Wangaratta":MAILTO:info@gatewayhealth.org.au
GEO:-36.3528854;146.3197993
X-APPLE-STRUCTURED-LOCATION;VALUE=URI;X-ADDRESS=Gateway Health Wangaratta 45-47 Mackay Street Wangaratta Victoria 3677 Australia;X-APPLE-RADIUS=500;X-TITLE=45-47 Mackay Street:geo:146.3197993,-36.3528854
END:VEVENT
END:VCALENDAR