BEGIN:VCALENDAR
VERSION:2.0
PRODID:-//Gateway Health - ECPv6.15.20//NONSGML v1.0//EN
CALSCALE:GREGORIAN
METHOD:PUBLISH
X-WR-CALNAME:Gateway Health
X-ORIGINAL-URL:https://gatewayhealth.org.au
X-WR-CALDESC:Events for Gateway Health
REFRESH-INTERVAL;VALUE=DURATION:PT1H
X-Robots-Tag:noindex
X-PUBLISHED-TTL:PT1H
BEGIN:VTIMEZONE
TZID:Australia/Sydney
BEGIN:STANDARD
TZOFFSETFROM:+1100
TZOFFSETTO:+1000
TZNAME:AEST
DTSTART:20230401T160000
END:STANDARD
BEGIN:DAYLIGHT
TZOFFSETFROM:+1000
TZOFFSETTO:+1100
TZNAME:AEDT
DTSTART:20230930T160000
END:DAYLIGHT
BEGIN:STANDARD
TZOFFSETFROM:+1100
TZOFFSETTO:+1000
TZNAME:AEST
DTSTART:20240406T160000
END:STANDARD
BEGIN:DAYLIGHT
TZOFFSETFROM:+1000
TZOFFSETTO:+1100
TZNAME:AEDT
DTSTART:20241005T160000
END:DAYLIGHT
BEGIN:STANDARD
TZOFFSETFROM:+1100
TZOFFSETTO:+1000
TZNAME:AEST
DTSTART:20250405T160000
END:STANDARD
BEGIN:DAYLIGHT
TZOFFSETFROM:+1000
TZOFFSETTO:+1100
TZNAME:AEDT
DTSTART:20251004T160000
END:DAYLIGHT
END:VTIMEZONE
BEGIN:VEVENT
DTSTART;TZID=Australia/Sydney:20240729T093000
DTEND;TZID=Australia/Sydney:20240729T123000
DTSTAMP:20260421T162728
CREATED:20240527T060504Z
LAST-MODIFIED:20240527T060504Z
UID:10002652-1722245400-1722256200@gatewayhealth.org.au
SUMMARY:CP@clinic - Chiltern
DESCRIPTION:The CP@clinic program offers you a free health check by a community paramedic trained to assist people with managing their health outside the emergency setting. Community paramedics use their expertise\, knowledge and skills to conduct health assessments and provide health advice. They can help you improve your health. \nAt a CP@clinic\, a community paramedic will: \n\nAsk some questions about your health;\nReview your medications;\nTake your blood pressure;\nAsk you to do a walking test;\nGive you health advice and information;\nSet health goals with you; and\,\nConnect you with your primary care provider and other community resources.\n\nAll personal information is kept private and confidential. It will not be shared with anyone or any community services without your consent.
URL:https://gatewayhealth.org.au/event/cpclinic-chiltern-5/
LOCATION:Chiltern Neighbourhood House\, 11 Main St\, Chiltern\, Victoria\, Australia
CATEGORIES:CP@clinic
ATTACH;FMTTYPE=image/jpeg:https://gatewayhealth.org.au/wp-content/uploads/2024/05/1000016723-scaled.jpg
GEO:-36.1544815;146.6076393
X-APPLE-STRUCTURED-LOCATION;VALUE=URI;X-ADDRESS=Chiltern Neighbourhood House 11 Main St Chiltern Victoria Australia;X-APPLE-RADIUS=500;X-TITLE=11 Main St:geo:146.6076393,-36.1544815
END:VEVENT
BEGIN:VEVENT
DTSTART;TZID=Australia/Sydney:20240729T103000
DTEND;TZID=Australia/Sydney:20240729T113000
DTSTAMP:20260421T162728
CREATED:20240723T231442Z
LAST-MODIFIED:20240723T231613Z
UID:10002676-1722249000-1722252600@gatewayhealth.org.au
SUMMARY:Mother Goose | Orana Community Centre
DESCRIPTION:Mother Goose Weekly Sessions at Orana Community Centre!  \nDate & Time: Every Monday from July 15 until September 9\, from 10:30am to 11:30am\nLocation: Orana Community Centre\, 40 Cardio Drive\, Springdale Heights\, Lavington \nAttention all fun-loving families! \nEmbark on a whimsical journey with our enchanting Mother Goose sessions\, coming to life right in the heart of Lavington! Perfect for parents and their little ones to engage in a world of stories and interactive play. \nWhat’s in Store: \n\nCaptivating storytelling by our gifted narrators\nCreative and enjoyable activities to ignite young imaginations\nSpecial moments for family bonding that you’ll treasure forever\n\nAn Unmissable Experience: \nCreate unforgettable memories each Monday\, while building a community with other local families. These sessions are the perfect chance to sprinkle some storytelling magic into your week! \nTell Your Friends: \nWe love welcoming new faces\, so please invite others to join the fun. Share this event and let’s make every Monday a celebration of stories\, smiles\, and friendship! \nReady for a Monday filled with magic? We look forward to welcoming you to Mother Goose at Orana Community Centre! \nIf you have any questions\, please contact the Gateway Health Parenting Team at 0457 279 796 or email parenting@gatewayhealth.org.au. \nRegister here: https://events.humanitix.com/mother-goose-or-orana-community-centre
URL:https://gatewayhealth.org.au/event/mother-goose-orana-community-centre/
LOCATION:Orana Community Centre\, 40 Cardo Drive\, Springdale Heights\, NSW\, 2641\, Australia
ATTACH;FMTTYPE=image/png:https://gatewayhealth.org.au/wp-content/uploads/2024/07/Mother-Goose-Lavington-.png
GEO:-36.0325941;146.9516553
X-APPLE-STRUCTURED-LOCATION;VALUE=URI;X-ADDRESS=Orana Community Centre 40 Cardo Drive Springdale Heights NSW 2641 Australia;X-APPLE-RADIUS=500;X-TITLE=40 Cardo Drive:geo:146.9516553,-36.0325941
END:VEVENT
END:VCALENDAR