BEGIN:VCALENDAR
VERSION:2.0
PRODID:-//Gateway Health - ECPv6.15.20//NONSGML v1.0//EN
CALSCALE:GREGORIAN
METHOD:PUBLISH
X-WR-CALNAME:Gateway Health
X-ORIGINAL-URL:https://gatewayhealth.org.au
X-WR-CALDESC:Events for Gateway Health
REFRESH-INTERVAL;VALUE=DURATION:PT1H
X-Robots-Tag:noindex
X-PUBLISHED-TTL:PT1H
BEGIN:VTIMEZONE
TZID:Australia/Sydney
BEGIN:STANDARD
TZOFFSETFROM:+1100
TZOFFSETTO:+1000
TZNAME:AEST
DTSTART:20230401T160000
END:STANDARD
BEGIN:DAYLIGHT
TZOFFSETFROM:+1000
TZOFFSETTO:+1100
TZNAME:AEDT
DTSTART:20230930T160000
END:DAYLIGHT
BEGIN:STANDARD
TZOFFSETFROM:+1100
TZOFFSETTO:+1000
TZNAME:AEST
DTSTART:20240406T160000
END:STANDARD
BEGIN:DAYLIGHT
TZOFFSETFROM:+1000
TZOFFSETTO:+1100
TZNAME:AEDT
DTSTART:20241005T160000
END:DAYLIGHT
BEGIN:STANDARD
TZOFFSETFROM:+1100
TZOFFSETTO:+1000
TZNAME:AEST
DTSTART:20250405T160000
END:STANDARD
BEGIN:DAYLIGHT
TZOFFSETFROM:+1000
TZOFFSETTO:+1100
TZNAME:AEDT
DTSTART:20251004T160000
END:DAYLIGHT
END:VTIMEZONE
BEGIN:VEVENT
DTSTART;TZID=Australia/Sydney:20240724T080000
DTEND;TZID=Australia/Sydney:20240724T170000
DTSTAMP:20260421T162724
CREATED:20240723T232151Z
LAST-MODIFIED:20240723T232151Z
UID:10002679-1721808000-1721840400@gatewayhealth.org.au
SUMMARY:Mother Goose | Orana Community Centre
DESCRIPTION:Mother Goose Weekly Sessions at Orana Community Centre!  \nDate & Time: Every Monday from July 15 until September 9\, from 10:30am to 11:30am\nLocation: Orana Community Centre\, 40 Cardio Drive\, Springdale Heights\, Lavington \nAttention all fun-loving families! \nEmbark on a whimsical journey with our enchanting Mother Goose sessions\, coming to life right in the heart of Lavington! Perfect for parents and their little ones to engage in a world of stories and interactive play. \nWhat’s in Store: \n\nCaptivating storytelling by our gifted narrators\nCreative and enjoyable activities to ignite young imaginations\nSpecial moments for family bonding that you’ll treasure forever\n\nAn Unmissable Experience: \nCreate unforgettable memories each Monday\, while building a community with other local families. These sessions are the perfect chance to sprinkle some storytelling magic into your week! \nTell Your Friends: \nWe love welcoming new faces\, so please invite others to join the fun. Share this event and let’s make every Monday a celebration of stories\, smiles\, and friendship! \nReady for a Monday filled with magic? We look forward to welcoming you to Mother Goose at Orana Community Centre! \nIf you have any questions\, please contact the Gateway Health Parenting Team at 0457 279 796 or email parenting@gatewayhealth.org.au. \nRegister here: https://events.humanitix.com/mother-goose-or-orana-community-centre
URL:https://gatewayhealth.org.au/event/mother-goose-orana-community-centre-4/
LOCATION:Orana Community Centre\, 40 Cardo Drive\, Springdale Heights\, NSW\, 2641\, Australia
CATEGORIES:Parenting Programs
ATTACH;FMTTYPE=image/png:https://gatewayhealth.org.au/wp-content/uploads/2024/07/Mother-Goose-Lavington-.png
GEO:-36.0325941;146.9516553
X-APPLE-STRUCTURED-LOCATION;VALUE=URI;X-ADDRESS=Orana Community Centre 40 Cardo Drive Springdale Heights NSW 2641 Australia;X-APPLE-RADIUS=500;X-TITLE=40 Cardo Drive:geo:146.9516553,-36.0325941
END:VEVENT
BEGIN:VEVENT
DTSTART;TZID=Australia/Sydney:20240724T093000
DTEND;TZID=Australia/Sydney:20240724T103000
DTSTAMP:20260421T162724
CREATED:20220523T001027Z
LAST-MODIFIED:20220523T003141Z
UID:10001294-1721813400-1721817000@gatewayhealth.org.au
SUMMARY:Weight and Strength Program (WASP)
DESCRIPTION:The Weight and Strength Program (WASP) is suitable for all ability levels. \nThe program is delivered in a friendly social atmosphere by trained group leaders with physiotherapy support. \n\nPace your own progress\nImprove your strength and balance\nReduce the risk of falls\nImprove control of diabetes and depression\n\nThese sessions are open to everyone but registration is essential – Phone 03 5731 3500
URL:https://gatewayhealth.org.au/event/weight-and-strength-program-wasp/2024-07-24/
LOCATION:Gateway Health Myrtleford\, 32 Smith Street\, Myrtleford\, Victoria\, 3737\, Australia
GEO:-36.5596227;146.7235619
X-APPLE-STRUCTURED-LOCATION;VALUE=URI;X-ADDRESS=Gateway Health Myrtleford 32 Smith Street Myrtleford Victoria 3737 Australia;X-APPLE-RADIUS=500;X-TITLE=32 Smith Street:geo:146.7235619,-36.5596227
END:VEVENT
BEGIN:VEVENT
DTSTART;TZID=Australia/Sydney:20240724T103000
DTEND;TZID=Australia/Sydney:20240724T113000
DTSTAMP:20260421T162724
CREATED:20240711T011037Z
LAST-MODIFIED:20240711T011037Z
UID:10002668-1721817000-1721820600@gatewayhealth.org.au
SUMMARY:Mother Goose | Wodonga
DESCRIPTION:Mother Goose Weekly Sessions at Gateway Health Wodonga! \nDate & Time: Every Wednesday starting July 17 from 10:30am to 11:30am\nLocation: Gateway Health Wodonga – 155 High Street\, Wodonga \nCalling all families and little ones! \nGet ready for a delightful weekly adventure with our Mother Goose sessions. Join us as we journey through the magical world of storytelling and interactive activities\, tailor-made for parents and children to enjoy together. \nWhat to Expect: \n\nEngaging storytelling sessions led by our talented storytellers\nFun-filled activities that spark creativity and imagination\nBonding moments for families to cherish and enjoy together\n\nTo Reserve Your Spot: \nRegistration is required to ensure we have enough space and materials for everyone. Please secure your spot by booking above. Hurry\, spaces fill up fast! \nDon’t Miss Out! \nThis is a wonderful opportunity to create lasting memories with your little ones while meeting other families in a warm and welcoming environment. It’s a fantastic way to add a touch of magic to your Wednesdays! \nSpread the Word: \nFeel free to invite your friends\, share the event\, and let’s make each session a gathering of joy\, laughter\, and connection. The more\, the merrier! \nWe can’t wait to see you there! \nRegister here: https://events.humanitix.com/mother-goose-or-wodonga
URL:https://gatewayhealth.org.au/event/mother-goose-wodonga-2/
LOCATION:Gateway Health Wodonga\, 155 High Street\, Wodonga\, Victoria\, 3691\, Australia
CATEGORIES:Parenting Programs
ATTACH;FMTTYPE=image/png:https://gatewayhealth.org.au/wp-content/uploads/2024/07/Mother-Goose-Wodonga.png
GEO:-36.1244699;146.8885229
X-APPLE-STRUCTURED-LOCATION;VALUE=URI;X-ADDRESS=Gateway Health Wodonga 155 High Street Wodonga Victoria 3691 Australia;X-APPLE-RADIUS=500;X-TITLE=155 High Street:geo:146.8885229,-36.1244699
END:VEVENT
BEGIN:VEVENT
DTSTART;TZID=Australia/Sydney:20240724T110000
DTEND;TZID=Australia/Sydney:20240724T120000
DTSTAMP:20260421T162724
CREATED:20220912T044810Z
LAST-MODIFIED:20220912T044810Z
UID:10001414-1721818800-1721822400@gatewayhealth.org.au
SUMMARY:Weight and Strength Program (WASP)
DESCRIPTION:The Weight and Strength Program (WASP) is suitable for all ability levels. \nThe program is delivered in a friendly social atmosphere by trained group leaders with physiotherapy support. \n\nPace your own progress\nImprove your strength and balance\nReduce the risk of falls\nImprove control of diabetes and depression\n\nThese sessions are open to everyone but registration is essential – Phone 03 5731 3500
URL:https://gatewayhealth.org.au/event/weight-and-strength-program-wasp/2024-07-24/
LOCATION:Gateway Health Myrtleford\, 32 Smith Street\, Myrtleford\, Victoria\, 3737\, Australia
GEO:-36.5596227;146.7235619
X-APPLE-STRUCTURED-LOCATION;VALUE=URI;X-ADDRESS=Gateway Health Myrtleford 32 Smith Street Myrtleford Victoria 3737 Australia;X-APPLE-RADIUS=500;X-TITLE=32 Smith Street:geo:146.7235619,-36.5596227
END:VEVENT
END:VCALENDAR