BEGIN:VCALENDAR
VERSION:2.0
PRODID:-//Gateway Health - ECPv6.15.20//NONSGML v1.0//EN
CALSCALE:GREGORIAN
METHOD:PUBLISH
X-ORIGINAL-URL:https://gatewayhealth.org.au
X-WR-CALDESC:Events for Gateway Health
REFRESH-INTERVAL;VALUE=DURATION:PT1H
X-Robots-Tag:noindex
X-PUBLISHED-TTL:PT1H
BEGIN:VTIMEZONE
TZID:Australia/Sydney
BEGIN:STANDARD
TZOFFSETFROM:+1100
TZOFFSETTO:+1000
TZNAME:AEST
DTSTART:20230401T160000
END:STANDARD
BEGIN:DAYLIGHT
TZOFFSETFROM:+1000
TZOFFSETTO:+1100
TZNAME:AEDT
DTSTART:20230930T160000
END:DAYLIGHT
BEGIN:STANDARD
TZOFFSETFROM:+1100
TZOFFSETTO:+1000
TZNAME:AEST
DTSTART:20240406T160000
END:STANDARD
BEGIN:DAYLIGHT
TZOFFSETFROM:+1000
TZOFFSETTO:+1100
TZNAME:AEDT
DTSTART:20241005T160000
END:DAYLIGHT
BEGIN:STANDARD
TZOFFSETFROM:+1100
TZOFFSETTO:+1000
TZNAME:AEST
DTSTART:20250405T160000
END:STANDARD
BEGIN:DAYLIGHT
TZOFFSETFROM:+1000
TZOFFSETTO:+1100
TZNAME:AEDT
DTSTART:20251004T160000
END:DAYLIGHT
END:VTIMEZONE
BEGIN:VEVENT
DTSTART;TZID=Australia/Sydney:20240618T110000
DTEND;TZID=Australia/Sydney:20240618T120000
DTSTAMP:20260421T120239
CREATED:20220523T002135Z
LAST-MODIFIED:20220523T002617Z
UID:10001530-1718708400-1718712000@gatewayhealth.org.au
SUMMARY:Tai Chi for Health - Moyhu
DESCRIPTION:Tai Chi is a gentle form of exercise that is relaxed and slow in tempo. \nIt is designed to increase flexibility\, build muscle strength\, help with pain\, improve balance and improve mood. \nThe cost is $10 per session or $5 if eligible for subsidies. \nThese sessions are open to everyone but registration is essential – Phone 03 5723 2000. \n 
URL:https://gatewayhealth.org.au/event/tai-chi-for-health/2024-06-18/
LOCATION:King Valley Learning Exchange\, 2533 Wangaratta-Whitfield Rd\, Moyhu\, Victoria\, 3732\, Australia
GEO:-36.5703778;146.3800651
X-APPLE-STRUCTURED-LOCATION;VALUE=URI;X-ADDRESS=King Valley Learning Exchange 2533 Wangaratta-Whitfield Rd Moyhu Victoria 3732 Australia;X-APPLE-RADIUS=500;X-TITLE=2533 Wangaratta-Whitfield Rd:geo:146.3800651,-36.5703778
END:VEVENT
BEGIN:VEVENT
DTSTART;TZID=Australia/Sydney:20240618T110000
DTEND;TZID=Australia/Sydney:20240618T140000
DTSTAMP:20260421T120239
CREATED:20240527T055433Z
LAST-MODIFIED:20240527T055433Z
UID:10002641-1718708400-1718719200@gatewayhealth.org.au
SUMMARY:CP@clinic - Felltimber
DESCRIPTION:The CP@clinic program offers you a free health check by a community paramedic trained to assist people with managing their health outside the emergency setting. Community paramedics use their expertise\, knowledge and skills to conduct health assessments and provide health advice. They can help you improve your health. \nAt a CP@clinic\, a community paramedic will: \n\nAsk some questions about your health;\nReview your medications;\nTake your blood pressure;\nAsk you to do a walking test;\nGive you health advice and information;\nSet health goals with you; and\,\nConnect you with your primary care provider and other community resources.\n\nAll personal information is kept private and confidential. It will not be shared with anyone or any community services without your consent.
URL:https://gatewayhealth.org.au/event/cpclinic-felltimber/
LOCATION:Felltimber Community Centre\, Corner of Melrose Drive and Felltimber Creek Rd\, Wodonga\, Victoria\, 3691\, Australia
CATEGORIES:CP@clinic
ATTACH;FMTTYPE=image/jpeg:https://gatewayhealth.org.au/wp-content/uploads/2024/05/1000016723-scaled.jpg
GEO:-36.1292171;146.8207618
X-APPLE-STRUCTURED-LOCATION;VALUE=URI;X-ADDRESS=Felltimber Community Centre Corner of Melrose Drive and Felltimber Creek Rd Wodonga Victoria 3691 Australia;X-APPLE-RADIUS=500;X-TITLE=Corner of Melrose Drive and Felltimber Creek Rd:geo:146.8207618,-36.1292171
END:VEVENT
END:VCALENDAR