BEGIN:VCALENDAR
VERSION:2.0
PRODID:-//Gateway Health - ECPv6.15.20//NONSGML v1.0//EN
CALSCALE:GREGORIAN
METHOD:PUBLISH
X-ORIGINAL-URL:https://gatewayhealth.org.au
X-WR-CALDESC:Events for Gateway Health
REFRESH-INTERVAL;VALUE=DURATION:PT1H
X-Robots-Tag:noindex
X-PUBLISHED-TTL:PT1H
BEGIN:VTIMEZONE
TZID:Australia/Sydney
BEGIN:STANDARD
TZOFFSETFROM:+1100
TZOFFSETTO:+1000
TZNAME:AEST
DTSTART:20230401T160000
END:STANDARD
BEGIN:DAYLIGHT
TZOFFSETFROM:+1000
TZOFFSETTO:+1100
TZNAME:AEDT
DTSTART:20230930T160000
END:DAYLIGHT
BEGIN:STANDARD
TZOFFSETFROM:+1100
TZOFFSETTO:+1000
TZNAME:AEST
DTSTART:20240406T160000
END:STANDARD
BEGIN:DAYLIGHT
TZOFFSETFROM:+1000
TZOFFSETTO:+1100
TZNAME:AEDT
DTSTART:20241005T160000
END:DAYLIGHT
BEGIN:STANDARD
TZOFFSETFROM:+1100
TZOFFSETTO:+1000
TZNAME:AEST
DTSTART:20250405T160000
END:STANDARD
BEGIN:DAYLIGHT
TZOFFSETFROM:+1000
TZOFFSETTO:+1100
TZNAME:AEDT
DTSTART:20251004T160000
END:DAYLIGHT
END:VTIMEZONE
BEGIN:VEVENT
DTSTART;TZID=Australia/Sydney:20240205T103000
DTEND;TZID=Australia/Sydney:20240401T113000
DTSTAMP:20260426T102703
CREATED:20240125T030757Z
LAST-MODIFIED:20240125T031350Z
UID:10002584-1707129000-1711971000@gatewayhealth.org.au
SUMMARY:Mother Goose - Lavington
DESCRIPTION:For parents of children aged from 0 to 2 years. \nThe program promotes parent-child relationships through the fun of song\, rhyme and story. \nYou will learn ways to: \n\nhelp your child settle\nhelp their language development\ngrow and support your relationship with your child\nconnect with your child.\n\nTo register for this group phone 0457 279 796 head here or email parenting@gatewayhealth.org.au.
URL:https://gatewayhealth.org.au/event/mother-goose-5-2-2-2/
LOCATION:Orana Community Centre\, 40 Cardo Drive\, Springdale Heights\, NSW\, 2641\, Australia
CATEGORIES:Parenting Programs
GEO:-36.0325941;146.9516553
X-APPLE-STRUCTURED-LOCATION;VALUE=URI;X-ADDRESS=Orana Community Centre 40 Cardo Drive Springdale Heights NSW 2641 Australia;X-APPLE-RADIUS=500;X-TITLE=40 Cardo Drive:geo:146.9516553,-36.0325941
END:VEVENT
BEGIN:VEVENT
DTSTART;TZID=Australia/Sydney:20240220T100000
DTEND;TZID=Australia/Sydney:20240326T120000
DTSTAMP:20260426T102703
CREATED:20240125T032718Z
LAST-MODIFIED:20240125T033038Z
UID:10002638-1708423200-1711454400@gatewayhealth.org.au
SUMMARY:Parenting After Separation
DESCRIPTION:For parents and carers if children after separation. \nThis five-week program will help you learn how separation and conflict can impact children and gain information and strategies to help your children adjust. \nThis session will provide information on: \n\nHow children often experience separation\nWhat you can do to support your children after separation (including practical skills to support children during challenging times)\nHow to build a working relationship with the other parent of your children\nEffective communication and conflict resolution\nExplore ways to care for yourself after separation\n\nFor more information head here. \nContact the parenting team to book your place – \n\nPhone 0457 279 796\nEmail parenting@gatewayhealth.org.au
URL:https://gatewayhealth.org.au/event/parenting-after-separation/
LOCATION:Gateway Health Wodonga\, 155 High Street\, Wodonga\, Victoria\, 3691\, Australia
CATEGORIES:Parenting Programs
GEO:-36.1244699;146.8885229
X-APPLE-STRUCTURED-LOCATION;VALUE=URI;X-ADDRESS=Gateway Health Wodonga 155 High Street Wodonga Victoria 3691 Australia;X-APPLE-RADIUS=500;X-TITLE=155 High Street:geo:146.8885229,-36.1244699
END:VEVENT
BEGIN:VEVENT
DTSTART;TZID=Australia/Sydney:20240220T183000
DTEND;TZID=Australia/Sydney:20240326T203000
DTSTAMP:20260426T102703
CREATED:20230914T050224Z
LAST-MODIFIED:20240125T033857Z
UID:10002434-1708453800-1711485000@gatewayhealth.org.au
SUMMARY:Dads Tuning in to Kids
DESCRIPTION:For male parents and carers of children aged between 3 and 12 years. \nThis 6-week program will support you to help your child understand and manage their feelings – emotional intelligence. \nChildren with good emotional intelligence: \n\nhave better concentration at school\nhave better success at making and keeping friends\nare more able to manage conflict with peers\nare more able to calm down when upset or angry.\n\nFor enquires and to register your attendance please call 0457 279 796 head here or email parenting@gatewayhealth.org.au.
URL:https://gatewayhealth.org.au/event/dads-tuning-in-to-kids-2/
LOCATION:Orana Community Centre\, 40 Cardo Drive\, Springdale Heights\, NSW\, 2641\, Australia
CATEGORIES:Parenting Programs
GEO:-36.0325941;146.9516553
X-APPLE-STRUCTURED-LOCATION;VALUE=URI;X-ADDRESS=Orana Community Centre 40 Cardo Drive Springdale Heights NSW 2641 Australia;X-APPLE-RADIUS=500;X-TITLE=40 Cardo Drive:geo:146.9516553,-36.0325941
END:VEVENT
BEGIN:VEVENT
DTSTART;TZID=Australia/Sydney:20240326T110000
DTEND;TZID=Australia/Sydney:20240326T120000
DTSTAMP:20260426T102703
CREATED:20220523T002135Z
LAST-MODIFIED:20220523T002617Z
UID:10001518-1711450800-1711454400@gatewayhealth.org.au
SUMMARY:Tai Chi for Health - Moyhu
DESCRIPTION:Tai Chi is a gentle form of exercise that is relaxed and slow in tempo. \nIt is designed to increase flexibility\, build muscle strength\, help with pain\, improve balance and improve mood. \nThe cost is $10 per session or $5 if eligible for subsidies. \nThese sessions are open to everyone but registration is essential – Phone 03 5723 2000. \n 
URL:https://gatewayhealth.org.au/event/tai-chi-for-health/2024-03-26/
LOCATION:King Valley Learning Exchange\, 2533 Wangaratta-Whitfield Rd\, Moyhu\, Victoria\, 3732\, Australia
GEO:-36.5703778;146.3800651
X-APPLE-STRUCTURED-LOCATION;VALUE=URI;X-ADDRESS=King Valley Learning Exchange 2533 Wangaratta-Whitfield Rd Moyhu Victoria 3732 Australia;X-APPLE-RADIUS=500;X-TITLE=2533 Wangaratta-Whitfield Rd:geo:146.3800651,-36.5703778
END:VEVENT
END:VCALENDAR