BEGIN:VCALENDAR
VERSION:2.0
PRODID:-//Gateway Health - ECPv6.15.20//NONSGML v1.0//EN
CALSCALE:GREGORIAN
METHOD:PUBLISH
X-ORIGINAL-URL:https://gatewayhealth.org.au
X-WR-CALDESC:Events for Gateway Health
REFRESH-INTERVAL;VALUE=DURATION:PT1H
X-Robots-Tag:noindex
X-PUBLISHED-TTL:PT1H
BEGIN:VTIMEZONE
TZID:Australia/Sydney
BEGIN:STANDARD
TZOFFSETFROM:+1100
TZOFFSETTO:+1000
TZNAME:AEST
DTSTART:20220402T160000
END:STANDARD
BEGIN:DAYLIGHT
TZOFFSETFROM:+1000
TZOFFSETTO:+1100
TZNAME:AEDT
DTSTART:20221001T160000
END:DAYLIGHT
BEGIN:STANDARD
TZOFFSETFROM:+1100
TZOFFSETTO:+1000
TZNAME:AEST
DTSTART:20230401T160000
END:STANDARD
BEGIN:DAYLIGHT
TZOFFSETFROM:+1000
TZOFFSETTO:+1100
TZNAME:AEDT
DTSTART:20230930T160000
END:DAYLIGHT
BEGIN:STANDARD
TZOFFSETFROM:+1100
TZOFFSETTO:+1000
TZNAME:AEST
DTSTART:20240406T160000
END:STANDARD
BEGIN:DAYLIGHT
TZOFFSETFROM:+1000
TZOFFSETTO:+1100
TZNAME:AEDT
DTSTART:20241005T160000
END:DAYLIGHT
END:VTIMEZONE
BEGIN:VEVENT
DTSTART;TZID=Australia/Sydney:20230724T180000
DTEND;TZID=Australia/Sydney:20230724T200000
DTSTAMP:20260420T114107
CREATED:20230621T041239Z
LAST-MODIFIED:20230621T041531Z
UID:10002404-1690221600-1690228800@gatewayhealth.org.au
SUMMARY:Parenting Trans and Gender Diverse Kids and Teens
DESCRIPTION:This program supports parents of transgender and gender-diverse children and teenagers to be able to parent with confidence and understanding. \nThe program covers: \n\nexploring the unique challenges and opportunities that parents of transgender and gender-diverse children face\nunderstanding your child’s experience\nsupporting your child on their gender journey and nurturing resilience\ntackling tricky conversations\nunderstanding how stress and stigma impact your child\nlearning how to support siblings and other family members.\n\nGateway Health Wodonga – G10 \nTo register call 0408 429 439 or email lisa.strode@gatewayhealth.org.au.
URL:https://gatewayhealth.org.au/event/parenting-trans-and-gender-diverse-kids-and-teens-4-2/2023-07-24/
LOCATION:Tomorrow Today\, Shop 10\, 66 Nunn Street\, Benalla\, Victoria\, 3672\, Australia
CATEGORIES:Parenting Programs
GEO:-36.1236987;146.8875638
X-APPLE-STRUCTURED-LOCATION;VALUE=URI;X-ADDRESS=Tomorrow Today Shop 10 66 Nunn Street Benalla Victoria 3672 Australia;X-APPLE-RADIUS=500;X-TITLE=Shop 10\, 66 Nunn Street:geo:146.8875638,-36.1236987
END:VEVENT
BEGIN:VEVENT
DTSTART;TZID=Australia/Sydney:20230724T190000
DTEND;TZID=Australia/Sydney:20230724T210000
DTSTAMP:20260420T114107
CREATED:20230621T203043Z
LAST-MODIFIED:20230621T230913Z
UID:10002501-1690225200-1690232400@gatewayhealth.org.au
SUMMARY:School Readiness Workshop
DESCRIPTION:Are you thinking of enrolling your child into primary school next year? \nStarting school is a big step for little kids. \nYou might have heard the term ‘school readiness’ – but what does it really mean? \nIn this free 2 hour workshop we will talk about:\n• Development of (the whole) child\n• Your child’s growing brain\n• Developing social & emotional skills\n• Becoming more independent\n• Challenges for our kids\n• How can parents help at home? \nThis session is delivered online (link will be provided) \nFor enquires and to register your attendance please call 0457 279 796 or email parenting@gatewayhealth.org.au.
URL:https://gatewayhealth.org.au/event/school-readiness-workshop/
CATEGORIES:Parenting Programs
END:VEVENT
END:VCALENDAR