BEGIN:VCALENDAR
VERSION:2.0
PRODID:-//Gateway Health - ECPv6.15.20//NONSGML v1.0//EN
CALSCALE:GREGORIAN
METHOD:PUBLISH
X-ORIGINAL-URL:https://gatewayhealth.org.au
X-WR-CALDESC:Events for Gateway Health
REFRESH-INTERVAL;VALUE=DURATION:PT1H
X-Robots-Tag:noindex
X-PUBLISHED-TTL:PT1H
BEGIN:VTIMEZONE
TZID:Australia/Sydney
BEGIN:STANDARD
TZOFFSETFROM:+1100
TZOFFSETTO:+1000
TZNAME:AEST
DTSTART:20220402T160000
END:STANDARD
BEGIN:DAYLIGHT
TZOFFSETFROM:+1000
TZOFFSETTO:+1100
TZNAME:AEDT
DTSTART:20221001T160000
END:DAYLIGHT
BEGIN:STANDARD
TZOFFSETFROM:+1100
TZOFFSETTO:+1000
TZNAME:AEST
DTSTART:20230401T160000
END:STANDARD
BEGIN:DAYLIGHT
TZOFFSETFROM:+1000
TZOFFSETTO:+1100
TZNAME:AEDT
DTSTART:20230930T160000
END:DAYLIGHT
BEGIN:STANDARD
TZOFFSETFROM:+1100
TZOFFSETTO:+1000
TZNAME:AEST
DTSTART:20240406T160000
END:STANDARD
BEGIN:DAYLIGHT
TZOFFSETFROM:+1000
TZOFFSETTO:+1100
TZNAME:AEDT
DTSTART:20241005T160000
END:DAYLIGHT
END:VTIMEZONE
BEGIN:VEVENT
DTSTART;TZID=Australia/Sydney:20230717T190000
DTEND;TZID=Australia/Sydney:20230717T210000
DTSTAMP:20260420T021419
CREATED:20230621T203125Z
LAST-MODIFIED:20230621T203209Z
UID:10002500-1689620400-1689627600@gatewayhealth.org.au
SUMMARY:School Readiness Workshop
DESCRIPTION:Are you thinking of enrolling your child into primary school next year? \nStarting school is a big step for little kids. \nYou might have heard the term ‘school readiness’ – but what does it really mean? \nIn this free 2 hour workshop we will talk about:\n• Development of (the whole) child\n• Your child’s growing brain\n• Developing social & emotional skills\n• Becoming more independent\n• Challenges for our kids\n• How can parents help at home? \nThis session is delivered online (link will be provided) \nFor enquires and to register your attendance please call 0457 279 796 or email parenting@gatewayhealth.org.au.
URL:https://gatewayhealth.org.au/event/school-readiness-workshop-2/
CATEGORIES:Parenting Programs
END:VEVENT
END:VCALENDAR