BEGIN:VCALENDAR
VERSION:2.0
PRODID:-//Gateway Health - ECPv6.15.20//NONSGML v1.0//EN
CALSCALE:GREGORIAN
METHOD:PUBLISH
X-ORIGINAL-URL:https://gatewayhealth.org.au
X-WR-CALDESC:Events for Gateway Health
REFRESH-INTERVAL;VALUE=DURATION:PT1H
X-Robots-Tag:noindex
X-PUBLISHED-TTL:PT1H
BEGIN:VTIMEZONE
TZID:Australia/Sydney
BEGIN:STANDARD
TZOFFSETFROM:+1100
TZOFFSETTO:+1000
TZNAME:AEST
DTSTART:20210403T160000
END:STANDARD
BEGIN:DAYLIGHT
TZOFFSETFROM:+1000
TZOFFSETTO:+1100
TZNAME:AEDT
DTSTART:20211002T160000
END:DAYLIGHT
BEGIN:STANDARD
TZOFFSETFROM:+1100
TZOFFSETTO:+1000
TZNAME:AEST
DTSTART:20220402T160000
END:STANDARD
BEGIN:DAYLIGHT
TZOFFSETFROM:+1000
TZOFFSETTO:+1100
TZNAME:AEDT
DTSTART:20221001T160000
END:DAYLIGHT
BEGIN:STANDARD
TZOFFSETFROM:+1100
TZOFFSETTO:+1000
TZNAME:AEST
DTSTART:20230401T160000
END:STANDARD
BEGIN:DAYLIGHT
TZOFFSETFROM:+1000
TZOFFSETTO:+1100
TZNAME:AEDT
DTSTART:20230930T160000
END:DAYLIGHT
END:VTIMEZONE
BEGIN:VEVENT
DTSTART;TZID=Australia/Sydney:20221027T093000
DTEND;TZID=Australia/Sydney:20221027T103000
DTSTAMP:20260423T180725
CREATED:20220523T002426Z
LAST-MODIFIED:20220523T002426Z
UID:10001565-1666863000-1666866600@gatewayhealth.org.au
SUMMARY:Tai Chi for Health - Myrtleford
DESCRIPTION:Tai Chi is a gentle form of exercise that is relaxed and slow in tempo. \nIt is designed to increase flexibility\, build muscle strength\, help with pain\, improve balance and improve mood. \nThe cost is $10 per session or $5 if eligible for subsidies. \nThese sessions are open to everyone but registration is essential – Phone 03 5723 2000. \n 
URL:https://gatewayhealth.org.au/event/tai-chi-for-health-myrtleford/2022-10-27/
LOCATION:Gateway Health Myrtleford\, 32 Smith Street\, Myrtleford\, Victoria\, 3737\, Australia
GEO:-36.5596227;146.7235619
X-APPLE-STRUCTURED-LOCATION;VALUE=URI;X-ADDRESS=Gateway Health Myrtleford 32 Smith Street Myrtleford Victoria 3737 Australia;X-APPLE-RADIUS=500;X-TITLE=32 Smith Street:geo:146.7235619,-36.5596227
END:VEVENT
BEGIN:VEVENT
DTSTART;TZID=Australia/Sydney:20221027T190000
DTEND;TZID=Australia/Sydney:20221027T210000
DTSTAMP:20260423T180725
CREATED:20220912T234610Z
LAST-MODIFIED:20220925T233828Z
UID:10002189-1666897200-1666904400@gatewayhealth.org.au
SUMMARY:Raising Resilient Children
DESCRIPTION:(From the Triple P International) \nFor parents and carers of children aged between 2 and 10 years. \nThis two-hour session will provide information on: \n\nRecognising and accepting feelings\nExpression of feelings\nBuilding a positive outlook\nDeveloping coping skills\nDealing with negative feelings\nStressful life events\n\nBookings are essential – call 02 6022 8888 or email parenting@gatewayhealth.org.au.
URL:https://gatewayhealth.org.au/event/raising-resilient-children-2/
LOCATION:Online via Zoom
CATEGORIES:Parenting Programs
END:VEVENT
END:VCALENDAR