BEGIN:VCALENDAR
VERSION:2.0
PRODID:-//Gateway Health - ECPv6.15.20//NONSGML v1.0//EN
CALSCALE:GREGORIAN
METHOD:PUBLISH
X-WR-CALNAME:Gateway Health
X-ORIGINAL-URL:https://gatewayhealth.org.au
X-WR-CALDESC:Events for Gateway Health
REFRESH-INTERVAL;VALUE=DURATION:PT1H
X-Robots-Tag:noindex
X-PUBLISHED-TTL:PT1H
BEGIN:VTIMEZONE
TZID:Australia/Sydney
BEGIN:STANDARD
TZOFFSETFROM:+1100
TZOFFSETTO:+1000
TZNAME:AEST
DTSTART:20210403T160000
END:STANDARD
BEGIN:DAYLIGHT
TZOFFSETFROM:+1000
TZOFFSETTO:+1100
TZNAME:AEDT
DTSTART:20211002T160000
END:DAYLIGHT
BEGIN:STANDARD
TZOFFSETFROM:+1100
TZOFFSETTO:+1000
TZNAME:AEST
DTSTART:20220402T160000
END:STANDARD
BEGIN:DAYLIGHT
TZOFFSETFROM:+1000
TZOFFSETTO:+1100
TZNAME:AEDT
DTSTART:20221001T160000
END:DAYLIGHT
BEGIN:STANDARD
TZOFFSETFROM:+1100
TZOFFSETTO:+1000
TZNAME:AEST
DTSTART:20230401T160000
END:STANDARD
BEGIN:DAYLIGHT
TZOFFSETFROM:+1000
TZOFFSETTO:+1100
TZNAME:AEDT
DTSTART:20230930T160000
END:DAYLIGHT
END:VTIMEZONE
BEGIN:VEVENT
DTSTART;TZID=Australia/Sydney:20221021T100000
DTEND;TZID=Australia/Sydney:20221021T120000
DTSTAMP:20260424T035213
CREATED:20220913T001831Z
LAST-MODIFIED:20220913T003923Z
UID:10002254-1666346400-1666353600@gatewayhealth.org.au
SUMMARY:Parenting Trans and Gender Diverse Kids and Teens
DESCRIPTION:This program supports parents of transgender and gender-diverse children and teenagers to be able to parent with confidence and understanding. \nThe program covers: \n\nExploring the unique challenges and opportunities that parents of transgender and gender diverse children face\nUnderstanding your child’s experience\nSupporting your child on their gender journey and nurturing resilience\nTackling tricky conversations\nUnderstanding how stress and stigma impact on your child\nLearning how to support siblings and other family members\n\nG10 Training Room – 155 High Street Wodonga \nTo register call 02 6022 8888 or email parenting@gatewayhealth.org.au.
URL:https://gatewayhealth.org.au/event/parenting-trans-and-gender-diverse-kids-and-teens/2022-10-21/
LOCATION:Tomorrow Today\, Shop 10\, 66 Nunn Street\, Benalla\, Victoria\, 3672\, Australia
CATEGORIES:Parenting Programs
GEO:-36.1236987;146.8875638
X-APPLE-STRUCTURED-LOCATION;VALUE=URI;X-ADDRESS=Tomorrow Today Shop 10 66 Nunn Street Benalla Victoria 3672 Australia;X-APPLE-RADIUS=500;X-TITLE=Shop 10\, 66 Nunn Street:geo:146.8875638,-36.1236987
END:VEVENT
BEGIN:VEVENT
DTSTART;TZID=Australia/Sydney:20221021T103000
DTEND;TZID=Australia/Sydney:20221021T113000
DTSTAMP:20260424T035213
CREATED:20220913T004721Z
LAST-MODIFIED:20220913T004721Z
UID:10002299-1666348200-1666351800@gatewayhealth.org.au
SUMMARY:Mother Goose - Interacting with your baby
DESCRIPTION:For parents of children aged from 0 to 2 years. \nParents learn through the oral traditions of rhymes\, songs and storytelling. \nYou will interact with your children with affection\, fingerplays\, bounces and tickles. \nTeaching is directed at the parent so that children participate in what is relevant to their stage of development and inclination. \nTo register for this group phone 02 6025 3988 or email parenting@gatewayhealth.org.au.
URL:https://gatewayhealth.org.au/event/mother-goose-interacting-with-your-baby-2/2022-10-21/
LOCATION:Orana Community Centre\, 40 Cardo Drive\, Springdale Heights\, NSW\, 2641\, Australia
CATEGORIES:Parenting Programs
GEO:-36.0325941;146.9516553
X-APPLE-STRUCTURED-LOCATION;VALUE=URI;X-ADDRESS=Orana Community Centre 40 Cardo Drive Springdale Heights NSW 2641 Australia;X-APPLE-RADIUS=500;X-TITLE=40 Cardo Drive:geo:146.9516553,-36.0325941
END:VEVENT
BEGIN:VEVENT
DTSTART;TZID=Australia/Sydney:20221021T133000
DTEND;TZID=Australia/Sydney:20221021T160000
DTSTAMP:20260424T035213
CREATED:20220902T004913Z
LAST-MODIFIED:20220902T005323Z
UID:10002185-1666359000-1666368000@gatewayhealth.org.au
SUMMARY:Bladder Health - Benalla
DESCRIPTION:Bladder weakness is not a normal part of ageing and it is treatable. \nThis is a three-week program that can assist you to understand and manage bladder and bowel issues and learn pelvic floor exercises. \nThe $30 cost includes: \n\nGuest speakers\nRefreshments\nResources\nA follow-up pelvic floor scan clinic\n\nIf you are interested in attending call Lisa on 03 5723 2082.
URL:https://gatewayhealth.org.au/event/bladder-health-program/2022-10-21/
LOCATION:Benalla Health – Community Care Centre\, 45-63 Coster Street\, Benalla\, VIC\, 3672\, Australia
CATEGORIES:Bladder Health
ORGANIZER;CN="Gateway Health - Wangaratta":MAILTO:info@gatewayhealth.org.au
GEO:-36.555396;145.9946077
X-APPLE-STRUCTURED-LOCATION;VALUE=URI;X-ADDRESS=Benalla Health – Community Care Centre 45-63 Coster Street Benalla VIC 3672 Australia;X-APPLE-RADIUS=500;X-TITLE=45-63 Coster Street:geo:145.9946077,-36.555396
END:VEVENT
END:VCALENDAR