BEGIN:VCALENDAR
VERSION:2.0
PRODID:-//Gateway Health - ECPv6.15.20//NONSGML v1.0//EN
CALSCALE:GREGORIAN
METHOD:PUBLISH
X-ORIGINAL-URL:https://gatewayhealth.org.au
X-WR-CALDESC:Events for Gateway Health
REFRESH-INTERVAL;VALUE=DURATION:PT1H
X-Robots-Tag:noindex
X-PUBLISHED-TTL:PT1H
BEGIN:VTIMEZONE
TZID:Australia/Sydney
BEGIN:STANDARD
TZOFFSETFROM:+1100
TZOFFSETTO:+1000
TZNAME:AEST
DTSTART:20210403T160000
END:STANDARD
BEGIN:DAYLIGHT
TZOFFSETFROM:+1000
TZOFFSETTO:+1100
TZNAME:AEDT
DTSTART:20211002T160000
END:DAYLIGHT
BEGIN:STANDARD
TZOFFSETFROM:+1100
TZOFFSETTO:+1000
TZNAME:AEST
DTSTART:20220402T160000
END:STANDARD
BEGIN:DAYLIGHT
TZOFFSETFROM:+1000
TZOFFSETTO:+1100
TZNAME:AEDT
DTSTART:20221001T160000
END:DAYLIGHT
BEGIN:STANDARD
TZOFFSETFROM:+1100
TZOFFSETTO:+1000
TZNAME:AEST
DTSTART:20230401T160000
END:STANDARD
BEGIN:DAYLIGHT
TZOFFSETFROM:+1000
TZOFFSETTO:+1100
TZNAME:AEDT
DTSTART:20230930T160000
END:DAYLIGHT
END:VTIMEZONE
BEGIN:VEVENT
DTSTART;TZID=Australia/Sydney:20220811T093000
DTEND;TZID=Australia/Sydney:20220811T103000
DTSTAMP:20260425T133514
CREATED:20220523T002426Z
LAST-MODIFIED:20220523T002426Z
UID:10001554-1660210200-1660213800@gatewayhealth.org.au
SUMMARY:Tai Chi for Health - Myrtleford
DESCRIPTION:Tai Chi is a gentle form of exercise that is relaxed and slow in tempo. \nIt is designed to increase flexibility\, build muscle strength\, help with pain\, improve balance and improve mood. \nThe cost is $10 per session or $5 if eligible for subsidies. \nThese sessions are open to everyone but registration is essential – Phone 03 5723 2000. \n 
URL:https://gatewayhealth.org.au/event/tai-chi-for-health-myrtleford/2022-08-11/
LOCATION:Gateway Health Myrtleford\, 32 Smith Street\, Myrtleford\, Victoria\, 3737\, Australia
GEO:-36.5596227;146.7235619
X-APPLE-STRUCTURED-LOCATION;VALUE=URI;X-ADDRESS=Gateway Health Myrtleford 32 Smith Street Myrtleford Victoria 3737 Australia;X-APPLE-RADIUS=500;X-TITLE=32 Smith Street:geo:146.7235619,-36.5596227
END:VEVENT
BEGIN:VEVENT
DTSTART;TZID=Australia/Sydney:20220811T190000
DTEND;TZID=Australia/Sydney:20220811T210000
DTSTAMP:20260425T133514
CREATED:20220628T002400Z
LAST-MODIFIED:20220704T001256Z
UID:10001684-1660244400-1660251600@gatewayhealth.org.au
SUMMARY:Tuning in to Kids - Emotion coaching
DESCRIPTION:This free four-week program aims to help parents and carers understand their child’s experience and connect with and support their child. \nThis program will look at: \n\nmanaging meltdowns\ntuning in to your children’s emotions to help manage behavior\nemotion coaching – helping children to understand and regulate their emotions\nproblem solving and self-care\nthe different styles of parenting.\n\nBookings are essential – Contact us on 02 6022 8888 or email parenting@gatewayhealth.org.au.
URL:https://gatewayhealth.org.au/event/tuning-in-to-kids-emotion-coaching/2022-08-11/
LOCATION:Online via Zoom
END:VEVENT
END:VCALENDAR