BEGIN:VCALENDAR
VERSION:2.0
PRODID:-//Gateway Health - ECPv6.15.20//NONSGML v1.0//EN
CALSCALE:GREGORIAN
METHOD:PUBLISH
X-WR-CALNAME:Gateway Health
X-ORIGINAL-URL:https://gatewayhealth.org.au
X-WR-CALDESC:Events for Gateway Health
REFRESH-INTERVAL;VALUE=DURATION:PT1H
X-Robots-Tag:noindex
X-PUBLISHED-TTL:PT1H
BEGIN:VTIMEZONE
TZID:Australia/Sydney
BEGIN:STANDARD
TZOFFSETFROM:+1100
TZOFFSETTO:+1000
TZNAME:AEST
DTSTART:20210403T160000
END:STANDARD
BEGIN:DAYLIGHT
TZOFFSETFROM:+1000
TZOFFSETTO:+1100
TZNAME:AEDT
DTSTART:20211002T160000
END:DAYLIGHT
BEGIN:STANDARD
TZOFFSETFROM:+1100
TZOFFSETTO:+1000
TZNAME:AEST
DTSTART:20220402T160000
END:STANDARD
BEGIN:DAYLIGHT
TZOFFSETFROM:+1000
TZOFFSETTO:+1100
TZNAME:AEDT
DTSTART:20221001T160000
END:DAYLIGHT
BEGIN:STANDARD
TZOFFSETFROM:+1100
TZOFFSETTO:+1000
TZNAME:AEST
DTSTART:20230401T160000
END:STANDARD
BEGIN:DAYLIGHT
TZOFFSETFROM:+1000
TZOFFSETTO:+1100
TZNAME:AEDT
DTSTART:20230930T160000
END:DAYLIGHT
END:VTIMEZONE
BEGIN:VEVENT
DTSTART;TZID=Australia/Sydney:20220809T110000
DTEND;TZID=Australia/Sydney:20220809T120000
DTSTAMP:20260425T133355
CREATED:20220523T002135Z
LAST-MODIFIED:20220523T002617Z
UID:10001433-1660042800-1660046400@gatewayhealth.org.au
SUMMARY:Tai Chi for Health - Moyhu
DESCRIPTION:Tai Chi is a gentle form of exercise that is relaxed and slow in tempo. \nIt is designed to increase flexibility\, build muscle strength\, help with pain\, improve balance and improve mood. \nThe cost is $10 per session or $5 if eligible for subsidies. \nThese sessions are open to everyone but registration is essential – Phone 03 5723 2000. \n 
URL:https://gatewayhealth.org.au/event/tai-chi-for-health/2022-08-09/
LOCATION:King Valley Learning Exchange\, 2533 Wangaratta-Whitfield Rd\, Moyhu\, Victoria\, 3732\, Australia
GEO:-36.5703778;146.3800651
X-APPLE-STRUCTURED-LOCATION;VALUE=URI;X-ADDRESS=King Valley Learning Exchange 2533 Wangaratta-Whitfield Rd Moyhu Victoria 3732 Australia;X-APPLE-RADIUS=500;X-TITLE=2533 Wangaratta-Whitfield Rd:geo:146.3800651,-36.5703778
END:VEVENT
BEGIN:VEVENT
DTSTART;TZID=Australia/Sydney:20220809T180000
DTEND;TZID=Australia/Sydney:20220809T200000
DTSTAMP:20260425T133355
CREATED:20220628T030253Z
LAST-MODIFIED:20220712T001729Z
UID:10002148-1660068000-1660075200@gatewayhealth.org.au
SUMMARY:Tuning in to Teens - Emotionally intelligent parenting
DESCRIPTION:For parents and carers of children aged 10 years and over. \nIf you are a parent or carer of a teenager this program will help you to: \n\nunderstand what your child is going through at this stage in their life\nhelp your child manage their emotions\nmanage conflict with your child more effectively\ncommunicate with your child more effectively\nbuild a closer more connected relationship with your child\nbuild on your skills as a parent.\n\nFor more information call Andrea on 0457 279 796 or email parenting@gatewayhealth.org.au.
URL:https://gatewayhealth.org.au/event/tuning-in-to-teens-emotionally-intelligent-parenting/2022-08-09/
LOCATION:Online via Zoom
END:VEVENT
END:VCALENDAR